BEGIN:VCALENDAR
VERSION:2.0
PRODID:-//South Australian Racehorse Owners Association - ECPv6.8.2.1//NONSGML v1.0//EN
CALSCALE:GREGORIAN
METHOD:PUBLISH
X-WR-CALNAME:South Australian Racehorse Owners Association
X-ORIGINAL-URL:https://saroa.com.au
X-WR-CALDESC:Events for South Australian Racehorse Owners Association
REFRESH-INTERVAL;VALUE=DURATION:PT1H
X-Robots-Tag:noindex
X-PUBLISHED-TTL:PT1H
BEGIN:VTIMEZONE
TZID:Australia/Adelaide
BEGIN:STANDARD
TZOFFSETFROM:+1030
TZOFFSETTO:+0930
TZNAME:ACST
DTSTART:20210403T163000
END:STANDARD
BEGIN:DAYLIGHT
TZOFFSETFROM:+0930
TZOFFSETTO:+1030
TZNAME:ACDT
DTSTART:20211002T163000
END:DAYLIGHT
END:VTIMEZONE
BEGIN:VEVENT
DTSTART;TZID=Australia/Adelaide:20210424T140000
DTEND;TZID=Australia/Adelaide:20210424T163000
DTSTAMP:20260426T062816
CREATED:20210409T013434Z
LAST-MODIFIED:20210421T005937Z
UID:4419-1619272800-1619281800@saroa.com.au
SUMMARY:SAROA Afternoon Tea at The Races
DESCRIPTION:SAROA and Santa didn’t get together last year because of COVID-19\, hopefully this year will be different. \nWe are conscious that SAROA has been unable to run functions for some time. \nWe would like to welcome our members for an afternoon tea – starting around 2 pm on Saturday April 24th in the Terrace Bar at Morphettville. Food service will commence at 3:00pm \nWe will supply platters of savoury and sweet nibbles and a complementary drink for our members. Non-members welcome for $20 per person. \nTo assist with catering please book ASAP as time is short  via the website www.saroa.com.au or ring Richard on 0432664824 or email secretary@saroa.com.au
URL:https://saroa.com.au/event/saroa-afternoon-tea-at-the-races/
LOCATION:Morphettville Racecourse\, 79 Morphett Rd\, Morphettville \, SA\, 5043\, Australia
END:VEVENT
END:VCALENDAR