BEGIN:VCALENDAR
VERSION:2.0
PRODID:-//South Australian Racehorse Owners Association - ECPv6.8.2.1//NONSGML v1.0//EN
CALSCALE:GREGORIAN
METHOD:PUBLISH
X-WR-CALNAME:South Australian Racehorse Owners Association
X-ORIGINAL-URL:https://saroa.com.au
X-WR-CALDESC:Events for South Australian Racehorse Owners Association
REFRESH-INTERVAL;VALUE=DURATION:PT1H
X-Robots-Tag:noindex
X-PUBLISHED-TTL:PT1H
BEGIN:VTIMEZONE
TZID:Australia/Adelaide
BEGIN:STANDARD
TZOFFSETFROM:+1030
TZOFFSETTO:+0930
TZNAME:ACST
DTSTART:20220402T163000
END:STANDARD
BEGIN:DAYLIGHT
TZOFFSETFROM:+0930
TZOFFSETTO:+1030
TZNAME:ACDT
DTSTART:20221001T163000
END:DAYLIGHT
END:VTIMEZONE
BEGIN:VEVENT
DTSTART;TZID=Australia/Adelaide:20220716T133000
DTEND;TZID=Australia/Adelaide:20220716T163000
DTSTAMP:20260425T063741
CREATED:20220622T035337Z
LAST-MODIFIED:20220715T004050Z
UID:4768-1657978200-1657989000@saroa.com.au
SUMMARY:Punt Club/SAROA Raceday
DESCRIPTION:We are pleased to advise that we will be holding a raceday in conjunction with the Punt Club. Our event will be held on Saturday 16th of July and will include a two-course lunch in the Leilani Room at Morphettville\, kicking off at around 11:30  \nWe are hoping to see a good crowd for the event\, the cost for members will be $75 and for non-members $90 \nBookings are available via the website using this link  \nhttps://saroa.com.au/?post_type=tribe_events&p=4768&preview=true \nor by contacting SAROA secretary Richard Stafford on 0432664824 or by email secretary@saroa.com.au
URL:https://saroa.com.au/event/punt-club-saroa-raceday/
LOCATION:Morphettville Racecourse\, 79 Morphett Rd\, Morphettville \, SA\, 5043\, Australia
END:VEVENT
END:VCALENDAR