BEGIN:VCALENDAR
VERSION:2.0
PRODID:-//South Australian Racehorse Owners Association - ECPv6.8.2.1//NONSGML v1.0//EN
CALSCALE:GREGORIAN
METHOD:PUBLISH
X-ORIGINAL-URL:https://saroa.com.au
X-WR-CALDESC:Events for South Australian Racehorse Owners Association
REFRESH-INTERVAL;VALUE=DURATION:PT1H
X-Robots-Tag:noindex
X-PUBLISHED-TTL:PT1H
BEGIN:VTIMEZONE
TZID:Australia/Adelaide
BEGIN:STANDARD
TZOFFSETFROM:+1030
TZOFFSETTO:+0930
TZNAME:ACST
DTSTART:20230401T163000
END:STANDARD
BEGIN:DAYLIGHT
TZOFFSETFROM:+0930
TZOFFSETTO:+1030
TZNAME:ACDT
DTSTART:20230930T163000
END:DAYLIGHT
END:VTIMEZONE
BEGIN:VEVENT
DTSTART;TZID=Australia/Adelaide:20230212T123000
DTEND;TZID=Australia/Adelaide:20230212T160000
DTSTAMP:20260424T170246
CREATED:20230118T012450Z
LAST-MODIFIED:20230118T090606Z
UID:4974-1676205000-1676217600@saroa.com.au
SUMMARY:SAROA Members BBQ
DESCRIPTION:
URL:https://saroa.com.au/event/saroa-members-bbq/
LOCATION:Morphettville Racecourse\, 79 Morphett Rd\, Morphettville \, SA\, 5043\, Australia
CATEGORIES:SAROA Events
ATTACH;FMTTYPE=image/jpeg:https://saroa.com.au/wp-content/uploads/2023/01/Members-BBQ-2023-web.jpg
END:VEVENT
END:VCALENDAR