BEGIN:VCALENDAR
VERSION:2.0
PRODID:-//South Australian Racehorse Owners Association - ECPv6.8.2.1//NONSGML v1.0//EN
CALSCALE:GREGORIAN
METHOD:PUBLISH
X-WR-CALNAME:South Australian Racehorse Owners Association
X-ORIGINAL-URL:https://saroa.com.au
X-WR-CALDESC:Events for South Australian Racehorse Owners Association
REFRESH-INTERVAL;VALUE=DURATION:PT1H
X-Robots-Tag:noindex
X-PUBLISHED-TTL:PT1H
BEGIN:VTIMEZONE
TZID:Australia/Adelaide
BEGIN:STANDARD
TZOFFSETFROM:+1030
TZOFFSETTO:+0930
TZNAME:ACST
DTSTART:20230401T163000
END:STANDARD
BEGIN:DAYLIGHT
TZOFFSETFROM:+0930
TZOFFSETTO:+1030
TZNAME:ACDT
DTSTART:20230930T163000
END:DAYLIGHT
END:VTIMEZONE
BEGIN:VEVENT
DTSTART;TZID=Australia/Adelaide:20230916T104500
DTEND;TZID=Australia/Adelaide:20230916T113000
DTSTAMP:20260424T034322
CREATED:20230816T062908Z
LAST-MODIFIED:20240823T010646Z
UID:5200-1694861100-1694863800@saroa.com.au
SUMMARY:SAROA AGM 2023
DESCRIPTION:The SAROA AGM will be held on September 16th. \nNotice of AGM \n 
URL:https://saroa.com.au/event/saroa-agm-2023/
LOCATION:The Junction\, 470 Anzac Highway\, Camden Park\, SA\, 5038\, Australia
CATEGORIES:SAROA Events
ORGANIZER;CN="SAROA":MAILTO:secretary@saroa.com.au
END:VEVENT
END:VCALENDAR