BEGIN:VCALENDAR
VERSION:2.0
PRODID:-//South Australian Racehorse Owners Association - ECPv6.8.2.1//NONSGML v1.0//EN
CALSCALE:GREGORIAN
METHOD:PUBLISH
X-WR-CALNAME:South Australian Racehorse Owners Association
X-ORIGINAL-URL:https://saroa.com.au
X-WR-CALDESC:Events for South Australian Racehorse Owners Association
REFRESH-INTERVAL;VALUE=DURATION:PT1H
X-Robots-Tag:noindex
X-PUBLISHED-TTL:PT1H
BEGIN:VTIMEZONE
TZID:Australia/Adelaide
BEGIN:STANDARD
TZOFFSETFROM:+1030
TZOFFSETTO:+0930
TZNAME:ACST
DTSTART:20200404T163000
END:STANDARD
BEGIN:DAYLIGHT
TZOFFSETFROM:+0930
TZOFFSETTO:+1030
TZNAME:ACDT
DTSTART:20201003T163000
END:DAYLIGHT
END:VTIMEZONE
BEGIN:VEVENT
DTSTART;TZID=Australia/Adelaide:20201114T110000
DTEND;TZID=Australia/Adelaide:20201114T143000
DTSTAMP:20260426T122300
CREATED:20201010T013533Z
LAST-MODIFIED:20201016T021511Z
UID:4253-1605351600-1605364200@saroa.com.au
SUMMARY:SAROA AGM - 2020
DESCRIPTION:NOTICE OF SAROA ANNUAL GENERAL MEETING \nVENUE: Morphettville Race-course – Leilani Room \nDATE: Saturday\, 14 November 2019 11:15 am for a prompt 11:30 start. \n(Note the meeting is later than usual this year due to COVID) \nLimited complimentary food platters will be supplied after the conclusion of the meeting. Cash bar and TAB facilities provided. Free entry to the Racecourse to Members only by showing the current 2019/20120 membership card. \nRSVP: 10 November 2020 via www.saroa.com.au \nOr Phone: 0432 664 824 or email secretary@saroa.com.au \n“—————————————————————————————————————————— \nDear SAROA Members \nWe have one committee vacancy which was not filled last year\, please consider nominating. As required by our constitution committee members Rob McBryde\, Ken Cock and Allie Umoff retire but offer themselves for re-election. \nWe invite interested parties to nominate to become committee members. Nominations must be made in writing by 31 October 2020 by completing the form below and forwarding it to: \nRichard Stafford\, Secretary PO Box 1139 GUMERACHA SA 5233 or by email to secretary@saroa.com.au \nI\,____________________________________________________________________ wish to apply for the position of Committee Member. \nSigned: \nNominated by                               (Member name) Signed : \nSeconded by                                (Member name) Signed : \nPLEASE NOTE: You can only join the committee or vote if you are a financial member \nMembers with dietary requirements please advise via the RSVP form or by email or phone.
URL:https://saroa.com.au/event/saroa-agm-2020/
LOCATION:Morphettville Racecourse\, 79 Morphett Rd\, Morphettville \, SA\, 5043\, Australia
END:VEVENT
BEGIN:VEVENT
DTSTART;TZID=Australia/Adelaide:20201129T120000
DTEND;TZID=Australia/Adelaide:20201129T160000
DTSTAMP:20260426T122300
CREATED:20201111T004324Z
LAST-MODIFIED:20201117T043326Z
UID:4309-1606651200-1606665600@saroa.com.au
SUMMARY:SAROA Christmas Party 2020- Postponed
DESCRIPTION:
URL:https://saroa.com.au/event/saroa-christmas-party-2020/
LOCATION:Morphettville Racecourse\, 79 Morphett Rd\, Morphettville \, SA\, 5043\, Australia
END:VEVENT
END:VCALENDAR