BEGIN:VCALENDAR
VERSION:2.0
PRODID:-//South Australian Racehorse Owners Association - ECPv6.8.2.1//NONSGML v1.0//EN
CALSCALE:GREGORIAN
METHOD:PUBLISH
X-ORIGINAL-URL:https://saroa.com.au
X-WR-CALDESC:Events for South Australian Racehorse Owners Association
REFRESH-INTERVAL;VALUE=DURATION:PT1H
X-Robots-Tag:noindex
X-PUBLISHED-TTL:PT1H
BEGIN:VTIMEZONE
TZID:Australia/Adelaide
BEGIN:STANDARD
TZOFFSETFROM:+1030
TZOFFSETTO:+0930
TZNAME:ACST
DTSTART:20220402T163000
END:STANDARD
BEGIN:DAYLIGHT
TZOFFSETFROM:+0930
TZOFFSETTO:+1030
TZNAME:ACDT
DTSTART:20221001T163000
END:DAYLIGHT
END:VTIMEZONE
BEGIN:VEVENT
DTSTART;TZID=Australia/Adelaide:20220929T160000
DTEND;TZID=Australia/Adelaide:20220929T190000
DTSTAMP:20260425T005540
CREATED:20220912T043346Z
LAST-MODIFIED:20220913T011114Z
UID:4866-1664467200-1664478000@saroa.com.au
SUMMARY:Apprentice Academy Visit
DESCRIPTION:  \n \nSAROA has for some time wanted to organise a visit to the Apprentice Academy to inspect the facilities there and to understand more about the training that our apprentice jockeys receive. COVID-19 has intervened on several occasions and renovations to the premises have held up arrangements but finally we can invite our members to inspect the Academy on September 29th at 4:00pm. \nThe Academy is located adjacent to the Magic Millions Complex 1 Park Terrace\, Morphettville SA 5043 \nWe have also made a booking at the Highway for those who wish to join us for dinner afterwards. The dinner will be Ala Carte at attendees cost. \nRSVP 23 September – Please book using the tickets below
URL:https://saroa.com.au/event/4866/
LOCATION:Apprentice Academy\, 1 Park Terrace\,\, Morphettville\, SA\, 5043\, Australia
ATTACH;FMTTYPE=image/jpeg:https://saroa.com.au/wp-content/uploads/2022/09/Apprentice-.jpg
END:VEVENT
END:VCALENDAR