BEGIN:VCALENDAR
VERSION:2.0
PRODID:-//South Australian Racehorse Owners Association - ECPv6.8.2.1//NONSGML v1.0//EN
CALSCALE:GREGORIAN
METHOD:PUBLISH
X-ORIGINAL-URL:https://saroa.com.au
X-WR-CALDESC:Events for South Australian Racehorse Owners Association
REFRESH-INTERVAL;VALUE=DURATION:PT1H
X-Robots-Tag:noindex
X-PUBLISHED-TTL:PT1H
BEGIN:VTIMEZONE
TZID:Australia/Adelaide
BEGIN:STANDARD
TZOFFSETFROM:+1030
TZOFFSETTO:+0930
TZNAME:ACST
DTSTART:20230401T163000
END:STANDARD
BEGIN:DAYLIGHT
TZOFFSETFROM:+0930
TZOFFSETTO:+1030
TZNAME:ACDT
DTSTART:20230930T163000
END:DAYLIGHT
END:VTIMEZONE
BEGIN:VEVENT
DTSTART;TZID=Australia/Adelaide:20231007T083000
DTEND;TZID=Australia/Adelaide:20231007T173000
DTSTAMP:20260424T003548
CREATED:20230909T010456Z
LAST-MODIFIED:20231003T234141Z
UID:5249-1696667400-1696699800@saroa.com.au
SUMMARY:Stable Tour and Raceday
DESCRIPTION:Our tour this year involves a visit to the new Alexander Brothers stables at Thomas Farms Racecourse\, Murray Bridge followed by access to the Alexander Brothers Marquee at the Murray Bridge Gold Cup meeting. \nThe programme \n\n8:45 am sharp Bus leaves The Junction\n 10 am to 11am pre-drinks at Alexander Brothers Racing Stables and tour of the new barns and facilities.\n11 am transfer to the Alexander Brothers Marquee\, where there will be a welcoming drink where attendees can view the races. \nApproximately 5.30 pm leave on bus to return to The Junction.\n\nPackage includes \n\nReturn Bus trip to Thomas Farms Racecourse\, Murray Bridge.\nWelcome pack including access tickets to the Alexander Brothers Marquee\nWelcome drink at the Marquee\nFood platters\nCash Bar\n\nSome attendees may wish to make their own transport arrangements\, in which case please ensure you arrive at the Alexander Brothers stables by 10 am. \nCosts (including a subsidy for SAROA members \n\nIncluding bus trip $65 members\, $100 non-members\nOwn transport $35 members and $70\n\nBookings close September 28th – to allow for catering and bus. Please make sure we receive booking by the cut off \n 
URL:https://saroa.com.au/event/stable-tour-and-raceday/
LOCATION:Thomas Farms Racecourse\, Murray Bridge\, 342 Brinkley Rd\,\, Murray Bridge\, SA\, Australia
END:VEVENT
END:VCALENDAR