BEGIN:VCALENDAR
VERSION:2.0
PRODID:-//South Australian Racehorse Owners Association - ECPv6.8.2.1//NONSGML v1.0//EN
CALSCALE:GREGORIAN
METHOD:PUBLISH
X-ORIGINAL-URL:https://saroa.com.au
X-WR-CALDESC:Events for South Australian Racehorse Owners Association
REFRESH-INTERVAL;VALUE=DURATION:PT1H
X-Robots-Tag:noindex
X-PUBLISHED-TTL:PT1H
BEGIN:VTIMEZONE
TZID:Australia/Adelaide
BEGIN:STANDARD
TZOFFSETFROM:+1030
TZOFFSETTO:+0930
TZNAME:ACST
DTSTART:20230401T163000
END:STANDARD
BEGIN:DAYLIGHT
TZOFFSETFROM:+0930
TZOFFSETTO:+1030
TZNAME:ACDT
DTSTART:20230930T163000
END:DAYLIGHT
END:VTIMEZONE
BEGIN:VEVENT
DTSTART;TZID=Australia/Adelaide:20231206T183000
DTEND;TZID=Australia/Adelaide:20231206T200000
DTSTAMP:20260423T213236
CREATED:20231120T033554Z
LAST-MODIFIED:20231120T033554Z
UID:5362-1701887400-1701892800@saroa.com.au
SUMMARY:Pre-Christmas Drinks
DESCRIPTION:Join your SAROA committee members for casual pre-Christmas drinks at The Highway 6.30pm December 6th \nLight finger food platters provided. \nPlease RSVP to assist with catering
URL:https://saroa.com.au/event/pre-christmas-drinks/
LOCATION:The Highway\, 290 Anzac Hwy\, Plympton\, SA\, 5038\, Australia
END:VEVENT
END:VCALENDAR